Workbook

Sheet 名産・特産品
B2: ４ 県内市町村の「名産・特産品」
B4: 市町村 | G4: 名産・特産品
B5: 北九州市 | G5: =[1]入力シート!AG5 -> 小倉牛 | Q5: =[1]入力シート!AH5 -> 合馬たけのこ | AA5: =[1]入力シート!AI5 -> うまかろーま® | AK5: =[1]入力シート!AJ5 -> 若松水切りトマト
G6: =[1]入力シート!AK5 -> 若松潮風®キャベツ | Q6: =[1]入力シート!AL5 -> ふぐ | AA6: =[1]入力シート!AM5 -> 豊前海一粒かき | AK6: =[1]入力シート!AN5 -> 豊前本ガニ
G7: =[1]入力シート!AO5 -> あかもく | Q7: =[1]入力シート!AP5 -> 関門海峡たこ | AA7: =[1]入力シート!AQ5 -> ぬか炊き | AK7: =[1]入力シート!AR5 -> 清酒
G8: =[1]入力シート!AS5 -> 若松クイーン（小玉すいか）若松潮風®プレミアム（大玉すいか） | AK8: =[1]入力シート!AV5 -> 門司港発祥焼きカレー
G9: =[1]入力シート!AW5 -> 門司港ちゃんら～ | Q9: =[1]入力シート!AX5 -> 小倉発祥焼うどん | AA9: =[1]入力シート!AY5 -> 小倉発祥丸腸 | AK9: =[1]入力シート!AZ5 -> 八幡ぎょうざ
G10: =[1]入力シート!BA5 -> 戸畑チャンポン | Q10: =[1]入力シート!BB5 -> 門司港地ビール | AA10: =[1]入力シート!BC5 -> 小倉織 | AK10: =[1]入力シート!BD5 -> 孫次凧
G11: =[1]入力シート!BE5 -> 企救焼 | Q11: =[1]入力シート!BF5 -> 小倉組子 | AA11: =[1]入力シート!BG5 -> 北九州産ワイン | AK11: =[1]入力シート!BH5 -> 藍の鰆
G12: =[1]入力シート!BI5 -> かしわめし | Q12: =[1]入力シート!BJ5 -> 肉ごぼ天うどん | AA12: =[1]入力シート!BK5 -> 堅パン | AK12: =[1]入力シート!BL5 -> ネジチョコ
G13: =[1]入力シート!BM5 -> サニーパン
B14: 福岡市 | G14: =[1]入力シート!AG6 -> 博多人形 | Q14: =[1]入力シート!AH6 -> 博多織 | AA14: =[1]入力シート!AI6 -> 博多曲物 | AK14: =[1]入力シート!AJ6 -> 博多鋏
G15: =[1]入力シート!AK6 -> 博多張子 | Q15: =[1]入力シート!AL6 -> 博多独楽 | AA15: =[1]入力シート!AM6 -> 博多おきあげ | AK15: =[1]入力シート!AN6 -> 今宿人形
G16: =[1]入力シート!AO6 -> 高取焼 | Q16: =[1]入力シート!AP6 -> がめ煮 | AA16: =[1]入力シート!AQ6 -> ごまサバ | AK16: =[1]入力シート!AR6 -> 辛子明太子
G17: =[1]入力シート!AS6 -> 白魚料理 | Q17: =[1]入力シート!AT6 -> ふぐ料理 | AA17: =[1]入力シート!AU6 -> 水たき | AK17: =[1]入力シート!AV6 -> 博多うどん
G18: =[1]入力シート!AW6 -> 博多ラーメン | Q18: =[1]入力シート!AX6 -> もつ鍋 | AA18: =[1]入力シート!AY6 -> おきゅうと | AK18: =[1]入力シート!AZ6 -> あぶってかも
B19: 大牟田市 | G19: =[1]入力シート!AG7 -> 早生みかん | Q19: =[1]入力シート!AH7 -> 巨峰 | AA19: =[1]入力シート!AI7 -> 早出したけのこ | AK19: =[1]入力シート!AJ7 -> 福岡有明のり
G20: =[1]入力シート!AK7 -> 草木饅頭 | Q20: =[1]入力シート!AL7 -> 貝柱粕漬け | AA20: =[1]入力シート!AM7 -> かすてら饅頭 | AK20: =[1]入力シート!AN7 -> 三池高菜
G21: =[1]入力シート!AO7 -> 大牟田ラーメン | Q21: =[1]入力シート!AP7 -> お好み焼き（ダゴ） | AA21: =[1]入力シート!AQ7 -> おおむた洋風カツ丼 | AK21: =[1]入力シート!AR7 -> イカタル弁当
G22: =[1]入力シート!AS7 -> 大牟田高菜めんべい | Q22: =[1]入力シート!AT7 -> 鍛冶製品 | AA22: =[1]入力シート!AU7 -> 押し花製品
B23: 久留米市 | G23: =[1]入力シート!AG8 -> 久留米つつじ | Q23: =[1]入力シート!AH8 -> 久留米つばき | AA23: =[1]入力シート!AI8 -> さつき | AK23: =[1]入力シート!AJ8 -> 久留米絣
G24: =[1]入力シート!AK8 -> 籃胎漆器 | Q24: =[1]入力シート!AL8 -> 久留米とんこつラーメン | AA24: =[1]入力シート!AM8 -> 地酒 | AK24: =[1]入力シート!AN8 -> 富有柿
G25: =[1]入力シート!AO8 -> 植木 | Q25: =[1]入力シート!AP8 -> 巨峰 | AA25: =[1]入力シート!AQ8 -> 山汐漬 | AK25: =[1]入力シート!AR8 -> 城島瓦
G26: =[1]入力シート!AS8 -> エツ | Q26: =[1]入力シート!AT8 -> みづまの黒松 | AA26: =[1]入力シート!AU8 -> 久留米焼きとり | AK26: =[1]入力シート!AV8 -> 筑後うどん
G27: =[1]入力シート!AW8 -> リーフレタス | Q27: =[1]入力シート!AX8 -> 国産スニーカー | AA27: =[1]入力シート!AY8 -> 国産バニラビーンズ | AK27: =[1]入力シート!AZ8 -> 梨
G28: =[1]入力シート!BA8 -> サラダ菜 | Q28: =[1]入力シート!BB8 -> あまおう（いちご）
B29: 直方市 | G29: =[1]入力シート!AG9 -> 高取焼 | Q29: =[1]入力シート!AH9 -> 仏壇 | AA29: =[1]入力シート!AI9 -> 木工芸 | AK29: =[1]入力シート!AJ9 -> とそ風呂
G30: =[1]入力シート!AK9 -> メロン | Q30: =[1]入力シート!AL9 -> なし | AA30: =[1]入力シート!AM9 -> ぶどう | AK30: =[1]入力シート!AN9 -> 国産無農薬バナナ
G31: =[1]入力シート!AO9 -> アスパラガス | Q31: =[1]入力シート!AP9 -> いちご | AA31: =[1]入力シート!AQ9 -> ぶどう110（ぶどう加工品） | AK31: =[1]入力シート!AR9 -> 焼きスパ
G32: =[1]入力シート!AS9 -> 米菓 | Q32: =[1]入力シート!AT9 -> 成金饅頭 | AA32: =[1]入力シート!AU9 -> カレー焼き | AK32: =[1]入力シート!AV9 -> はちみつ
G33: =[1]入力シート!AW9 -> トルコギキョウ | Q33: =[1]入力シート!AX9 -> 純米吟醸MONOGATARI | AA33: =[1]入力シート!AY9 -> 米粉 | AK33: =[1]入力シート!AZ9 -> 筑前ぶんぶん凧
B34: 飯塚市 | G34: =[1]入力シート!AG10 -> 饅頭・甘味菓子 | Q34: =[1]入力シート!AH10 -> ぶどう | AA34: =[1]入力シート!AI10 -> 味噌 | AK34: =[1]入力シート!AJ10 -> 柿
G35: =[1]入力シート!AK10 -> ブロッコリー | Q35: =[1]入力シート!AL10 -> いちじく（とよみつひめ） | AA35: =[1]入力シート!AM10 -> 鶏料理 | AK35: =[1]入力シート!AN10 -> 認証米
G36: =[1]入力シート!AO10 -> スイートコーン | Q36: =[1]入力シート!AP10 -> まくわうり | AA36: =[1]入力シート!AQ10 -> 日本酒 | AK36: =[1]入力シート!AR10 -> ソバ
G37: =[1]入力シート!AS10 -> いちご（あまおう） | Q37: =[1]入力シート!AT10 -> ホルモン | AA37: =[1]入力シート!AU10 -> 麦 | AK37: =[1]入力シート!AV10 -> 庄内ふき
G38: =[1]入力シート!AW10 -> りんご・梨 | Q38: =[1]入力シート!AX10 -> 大豆 | AA38: =[1]入力シート!AY10 -> アスパラガス | AK38: =[1]入力シート!AZ10 -> 筑穂牛
G39: =[1]入力シート!BA10 -> 切花（菊他） | Q39: =[1]入力シート!BB10 -> 堀池高菜 | AA39: =[1]入力シート!BC10 -> 豆腐 | AK39: =[1]入力シート!BD10 -> トルコギキョウ
G40: =[1]入力シート!BE10 -> 夏秋きゅうり | Q40: =[1]入力シート!BF10 -> 鶏卵 | AA40: =[1]入力シート!BG10 -> あごおち白菜 | AK40: =[1]入力シート!BH10 -> オクラ
B41: 田川市 | G41: =[1]入力シート!AG11 -> セメント | Q41: =[1]入力シート!AH11 -> ピュアパプリカ | AA41: =[1]入力シート!AI11 -> チョコレート | AK41: =[1]入力シート!AJ11 -> 黒ダイヤ・白ダイヤ（羊羹）
G42: =[1]入力シート!AK11 -> 電照菊 | Q42: =[1]入力シート!AL11 -> トルコギキョウ | AA42: =[1]入力シート!AM11 -> TGアスター | AK42: =[1]入力シート!AN11 -> 田川ホルモン鍋
...
