Workbook

Sheet 名産・特産品
B2: ４ 県内市町村の「名産・特産品」
B4: 市町村 | G4: 名産・特産品
B5: 北九州市 | G5: =[1]入力シート!AG5 -> 小倉牛 | Q5: =[1]入力シート!AH5 -> 合馬たけのこ | AA5: =[1]入力シート!AI5 -> うまかろーま® | AK5: =[1]入力シート!AJ5 -> 若松水切りトマト
G6: =[1]入力シート!AK5 -> 若松潮風®キャベツ | Q6: =[1]入力シート!AL5 -> ふぐ | AA6: =[1]入力シート!AM5 -> 豊前海一粒かき | AK6: =[1]入力シート!AN5 -> 豊前本ガニ
G7: =[1]入力シート!AO5 -> あかもく | Q7: =[1]入力シート!AP5 -> 関門海峡たこ | AA7: =[1]入力シート!AQ5 -> ぬか炊き | AK7: =[1]入力シート!AR5 -> 清酒
G8: =[1]入力シート!AS5 -> 若松クイーン（小玉すいか）若松潮風®プレミアム（大玉すいか） | AK8: =[1]入力シート!AV5 -> 門司港発祥焼きカレー
G9: =[1]入力シート!AW5 -> 門司港ちゃんら～ | Q9: =[1]入力シート!AX5 -> 小倉発祥焼うどん | AA9: =[1]入力シート!AY5 -> 小倉発祥丸腸 | AK9: =[1]入力シート!AZ5 -> 八幡ぎょうざ
G10: =[1]入力シート!BA5 -> 戸畑チャンポン | Q10: =[1]入力シート!BB5 -> 門司港地ビール | AA10: =[1]入力シート!BC5 -> 小倉織 | AK10: =[1]入力シート!BD5 -> 孫次凧
G11: =[1]入力シート!BE5 -> 企救焼 | Q11: =[1]入力シート!BF5 -> 小倉組子 | AA11: =[1]入力シート!BG5 -> 北九州産ワイン | AK11: =[1]入力シート!BH5 -> 藍の鰆
G12: =[1]入力シート!BI5 -> かしわめし | Q12: =[1]入力シート!BJ5 -> 肉ごぼ天うどん | AA12: =[1]入力シート!BK5 -> 堅パン | AK12: =[1]入力シート!BL5 -> ネジチョコ
G13: =[1]入力シート!BM5 -> サニーパン
B14: 福岡市 | G14: =[1]入力シート!AG6 -> 博多人形 | Q14: =[1]入力シート!AH6 -> 博多織 | AA14: =[1]入力シート!AI6 -> 博多曲物 | AK14: =[1]入力シート!AJ6 -> 博多鋏
G15: =[1]入力シート!AK6 -> 博多張子 | Q15: =[1]入力シート!AL6 -> 博多独楽 | AA15: =[1]入力シート!AM6 -> 博多おきあげ | AK15: =[1]入力シート!AN6 -> 今宿人形
G16: =[1]入力シート!AO6 -> 高取焼 | Q16: =[1]入力シート!AP6 -> がめ煮 | AA16: =[1]入力シート!AQ6 -> ごまサバ | AK16: =[1]入力シート!AR6 -> 辛子明太子
G17: =[1]入力シート!AS6 -> 白魚料理 | Q17: =[1]入力シート!AT6 -> ふぐ料理 | AA17: =[1]入力シート!AU6 -> 水たき | AK17: =[1]入力シート!AV6 -> 博多うどん
G18: =[1]入力シート!AW6 -> 博多ラーメン | Q18: =[1]入力シート!AX6 -> もつ鍋 | AA18: =[1]入力シート!AY6 -> おきゅうと | AK18: =[1]入力シート!AZ6 -> あぶってかも
B19: 大牟田市 | G19: =[1]入力シート!AG7 -> 早生みかん | Q19: =[1]入力シート!AH7 -> 巨峰 | AA19: =[1]入力シート!AI7 -> 早出したけのこ | AK19: =[1]入力シート!AJ7 -> 福岡有明のり
G20: =[1]入力シート!AK7 -> 草木饅頭 | Q20: =[1]入力シート!AL7 -> 貝柱粕漬け | AA20: =[1]入力シート!AM7 -> かすてら饅頭 | AK20: =[1]入力シート!AN7 -> 三池高菜
G21: =[1]入力シート!AO7 -> 大牟田ラーメン | Q21: =[1]入力シート!AP7 -> お好み焼き（ダゴ） | AA21: =[1]入力シート!AQ7 -> おおむた洋風カツ丼 | AK21: =[1]入力シート!AR7 -> イカタル弁当
G22: =[1]入力シート!AS7 -> 大牟田高菜めんべい | Q22: =[1]入力シート!AT7 -> 鍛冶製品 | AA22: =[1]入力シート!AU7 -> 押し花製品
B23: 久留米市 | G23: =[1]入力シート!AG8 -> 久留米つつじ | Q23: =[1]入力シート!AH8 -> 久留米つばき | AA23: =[1]入力シート!AI8 -> さつき | AK23: =[1]入力シート!AJ8 -> 久留米絣
G24: =[1]入力シート!AK8 -> 籃胎漆器 | Q24: =[1]入力シート!AL8 -> 久留米とんこつラーメン | AA24: =[1]入力シート!AM8 -> 地酒 | AK24: =[1]入力シート!AN8 -> 富有柿
G25: =[1]入力シート!AO8 -> 植木 | Q25: =[1]入力シート!AP8 -> 巨峰 | AA25: =[1]入力シート!AQ8 -> 山汐漬 | AK25: =[1]入力シート!AR8 -> 城島瓦
G26: =[1]入力シート!AS8 -> エツ | Q26: =[1]入力シート!AT8 -> みづまの黒松 | AA26: =[1]入力シート!AU8 -> 久留米焼きとり | AK26: =[1]入力シート!AV8 -> 筑後うどん
G27: =[1]入力シート!AW8 -> リーフレタス | Q27: =[1]入力シート!AX8 -> 国産スニーカー | AA27: =[1]入力シート!AY8 -> 国産バニラビーンズ | AK27: =[1]入力シート!AZ8 -> 梨
G28: =[1]入力シート!BA8 -> サラダ菜 | Q28: =[1]入力シート!BB8 -> あまおう（いちご）
B29: 直方市 | G29: =[1]入力シート!AG9 -> 高取焼 | Q29: =[1]入力シート!AH9 -> 仏壇 | AA29: =[1]入力シート!AI9 -> 木工芸 | AK29: =[1]入力シート!AJ9 -> とそ風呂
G30: =[1]入力シート!AK9 -> メロン | Q30: =[1]入力シート!AL9 -> なし | AA30: =[1]入力シート!AM9 -> ぶどう | AK30: =[1]入力シート!AN9 -> 国産無農薬バナナ
G31: =[1]入力シート!AO9 -> アスパラガス | Q31: =[1]入力シート!AP9 -> いちご | AA31: =[1]入力シート!AQ9 -> ぶどう110（ぶどう加工品） | AK31: =[1]入力シート!AR9 -> 焼きスパ
G32: =[1]入力シート!AS9 -> 米菓 | Q32: =[1]入力シート!AT9 -> 成金饅頭 | AA32: =[1]入力シート!AU9 -> カレー焼き | AK32: =[1]入力シート!AV9 -> はちみつ
G33: =[1]入力シート!AW9 -> トルコギキョウ | Q33: =[1]入力シート!AX9 -> 純米吟醸MONOGATARI | AA33: =[1]入力シート!AY9 -> 米粉 | AK33: =[1]入力シート!AZ9 -> 筑前ぶんぶん凧
B34: 飯塚市 | G34: =[1]入力シート!AG10 -> 饅頭・甘味菓子 | Q34: =[1]入力シート!AH10 -> ぶどう | AA34: =[1]入力シート!AI10 -> 味噌 | AK34: =[1]入力シート!AJ10 -> 柿
G35: =[1]入力シート!AK10 -> ブロッコリー | Q35: =[1]入力シート!AL10 -> いちじく（とよみつひめ） | AA35: =[1]入力シート!AM10 -> 鶏料理 | AK35: =[1]入力シート!AN10 -> 認証米
G36: =[1]入力シート!AO10 -> スイートコーン | Q36: =[1]入力シート!AP10 -> まくわうり | AA36: =[1]入力シート!AQ10 -> 日本酒 | AK36: =[1]入力シート!AR10 -> ソバ
G37: =[1]入力シート!AS10 -> いちご（あまおう） | Q37: =[1]入力シート!AT10 -> ホルモン | AA37: =[1]入力シート!AU10 -> 麦 | AK37: =[1]入力シート!AV10 -> 庄内ふき
G38: =[1]入力シート!AW10 -> りんご・梨 | Q38: =[1]入力シート!AX10 -> 大豆 | AA38: =[1]入力シート!AY10 -> アスパラガス | AK38: =[1]入力シート!AZ10 -> 筑穂牛
G39: =[1]入力シート!BA10 -> 切花（菊他） | Q39: =[1]入力シート!BB10 -> 堀池高菜 | AA39: =[1]入力シート!BC10 -> 豆腐 | AK39: =[1]入力シート!BD10 -> トルコギキョウ
G40: =[1]入力シート!BE10 -> 夏秋きゅうり | Q40: =[1]入力シート!BF10 -> 鶏卵 | AA40: =[1]入力シート!BG10 -> あごおち白菜 | AK40: =[1]入力シート!BH10 -> オクラ
B41: 田川市 | G41: =[1]入力シート!AG11 -> セメント | Q41: =[1]入力シート!AH11 -> ピュアパプリカ | AA41: =[1]入力シート!AI11 -> チョコレート | AK41: =[1]入力シート!AJ11 -> 黒ダイヤ・白ダイヤ（羊羹）
G42: =[1]入力シート!AK11 -> 電照菊 | Q42: =[1]入力シート!AL11 -> トルコギキョウ | AA42: =[1]入力シート!AM11 -> TGアスター | AK42: =[1]入力シート!AN11 -> 田川ホルモン鍋
G43: =[1]入力シート!AO11 -> いちじく | Q43: =[1]入力シート!AP11 -> 小松菜 | AA43: =[1]入力シート!AQ11 -> 漆喰 | AK43: =[1]入力シート!AR11 -> アスパラガス
G44: =[1]入力シート!AS11 -> 微生物土壌改良剤 | Q44: =[1]入力シート!AT11 -> ふくおかジビエ（イノシシ、シカなどの獣肉） | AK44: =[1]入力シート!AU11 -> 石灰石
G45: =[1]入力シート!AW11 -> 米 | Q45: =[1]入力シート!AX11 -> みんなの甘酒 | AA45: =[1]入力シート!AY11 -> いちご
B46: 柳川市 | G46: =[1]入力シート!AG12 -> 福岡有明のり | Q46: =[1]入力シート!AH12 -> うなぎのせいろ蒸し | AA46: =[1]入力シート!AI12 -> 柳川なべ（どじょうなべ） | AK46: =[1]入力シート!AJ12 -> 地酒
G47: 粕漬 | Q47: =[1]入力シート!AL12 -> 味噌 | AA47: =[1]入力シート!AM12 -> ウミタケ | AK47: =[1]入力シート!AN12 -> ワラスボ
G48: タイラギ | Q48: =[1]入力シート!AP12 -> シャッパ（シャコ） | AA48: =[1]入力シート!AQ12 -> クツゾコ（シタビラメ） | AK48: =[1]入力シート!AR12 -> アサリ
G49: =[1]入力シート!AS12 -> サルボウ（赤貝） | Q49: =[1]入力シート!AT12 -> 米 | AA49: =[1]入力シート!AU12 -> 麦 | AK49: =[1]入力シート!AV12 -> 大豆
G50: =[1]入力シート!AW12 -> なす | Q50: =[1]入力シート!AX12 -> いちご | AA50: =[1]入力シート!AY12 -> レタス | AK50: =[1]入力シート!AZ12 -> トマト
G51: =[1]入力シート!BA12 -> ニラ | Q51: =[1]入力シート!BB12 -> アスパラガス | AA51: =[1]入力シート!BC12 -> 巨峰 | AK51: =[1]入力シート!BD12 -> いちじく
G52: =[1]入力シート!BE12 -> オクラ | Q52: =[1]入力シート!BF12 -> つぼみ菜 | AA52: =[1]入力シート!BG12 -> 柳川さげもん（吊るし飾り） | AK52: =[1]入力シート!BH12 -> 柳川まり
G53: =[1]入力シート!BI12 -> 畳表 | Q53: =[1]入力シート!BJ12 -> 福岡ござ | AA53: =[1]入力シート!BK12 -> 蒲池焼 | AK53: =[1]入力シート!BL12 -> 天然うなぎ
G54: =[1]入力シート!BM12 -> イイダコ | Q54: =[1]入力シート!BN12 -> 真えび | AA54: =[1]入力シート!BO12 -> ガザミ（ワタリガニ）
B55: 八女市 | G55: =[1]入力シート!AG13 -> 八女茶 | Q55: =[1]入力シート!AH13 -> 八女伝統本玉露 | AA55: =[1]入力シート!AI13 -> 電照菊 | AK55: =[1]入力シート!AJ13 -> 八女福島仏壇
G56: =[1]入力シート!AK13 -> 八女提灯 | Q56: =[1]入力シート!AL13 -> 手漉和紙 | AA56: =[1]入力シート!AM13 -> 石灯ろう | AK56: =[1]入力シート!AN13 -> 雛人形
G57: =[1]入力シート!AO13 -> 清酒 | Q57: =[1]入力シート!AP13 -> 竹炭 | AA57: =[1]入力シート!AQ13 -> しいたけ | AK57: =[1]入力シート!AR13 -> いちご
G58: =[1]入力シート!AS13 -> なす | Q58: =[1]入力シート!AT13 -> ぶどう | AA58: =[1]入力シート!AU13 -> なし | AK58: =[1]入力シート!AV13 -> みかん
G59: =[1]入力シート!AW13 -> うめ | Q59: =[1]入力シート!AX13 -> キウイフルーツ | AA59: =[1]入力シート!AY13 -> たけのこ | AK59: =[1]入力シート!AZ13 -> しゃくなげ
G60: =[1]入力シート!BA13 -> りんどう | Q60: =[1]入力シート!BB13 -> 陶芸品 | AA60: =[1]入力シート!BC13 -> 木工品 | AK60: =[1]入力シート!BD13 -> 花木
G61: =[1]入力シート!BE13 -> 葉わさび | Q61: =[1]入力シート!BF13 -> 八女和ごま | AA61: =[1]入力シート!BG13 -> 八女矢 | AK61: =[1]入力シート!BH13 -> クラフトビール
G62: =[1]入力シート!BI13 -> ワイン | Q62: =[1]入力シート!BJ13 -> 八女竹細工 | AA62: =[1]入力シート!BK13 -> 久留米絣
B63: 筑後市 | G63: =[1]入力シート!AG14 -> いちご | Q63: =[1]入力シート!AH14 -> 梨 | AA63: =[1]入力シート!AI14 -> ぶどう | AK63: =[1]入力シート!AJ14 -> 八女茶
G64: =[1]入力シート!AK14 -> キンブチ鮎 | Q64: =[1]入力シート!AL14 -> ハヤの甘露煮 | AA64: =[1]入力シート!AM14 -> 山太郎ガニ（モクズガニ） | AK64: =[1]入力シート!AN14 -> 焼酎
G65: =[1]入力シート!AO14 -> 赤坂飴 | Q65: =[1]入力シート!AP14 -> 久留米絣 | AA65: =[1]入力シート!AQ14 -> 赤坂人形 | AK65: =[1]入力シート!AR14 -> 陶器
G66: =[1]入力シート!AS14 -> 手すき和紙 | Q66: =[1]入力シート!AT14 -> 花ござ | AA66: =[1]入力シート!AU14 -> 綿入りはんてん | AK66: =[1]入力シート!AV14 -> 花宗焼
G67: =[1]入力シート!AW14 -> 水田焼 | Q67: =[1]入力シート!AX14 -> なす | AA67: =[1]入力シート!AY14 -> タオル
B68: 大川市 | G68: =[1]入力シート!AG15 -> 家具 | Q68: =[1]入力シート!AH15 -> 建具 | AA68: =[1]入力シート!AI15 -> 観賞魚（錦鯉、金魚） | AK68: =[1]入力シート!AJ15 -> あまおう
G69: =[1]入力シート!AK15 -> い草 | Q69: =[1]入力シート!AL15 -> 花ござ | AA69: =[1]入力シート!AM15 -> 畳表 | AK69: =[1]入力シート!AN15 -> エツ
G70: =[1]入力シート!AO15 -> 福岡有明のり | Q70: =[1]入力シート!AP15 -> 地酒 | AA70: =[1]入力シート!AQ15 -> かまぼこ | AK70: =[1]入力シート!AR15 -> 黒棒
G71: =[1]入力シート!AS15 -> 酢製品 | Q71: =[1]入力シート!AT15 -> うなぎせいろ蒸し | AA71: =[1]入力シート!AU15 -> 大川彫刻らんま | AK71: =[1]入力シート!AV15 -> 大川組子
G72: =[1]入力シート!AW15 -> 大川伝統工芸品 | Q72: =[1]入力シート!AX15 -> 旅出しうなぎ | AA72: =[1]入力シート!AY15 -> いちじく | AK72: =[1]入力シート!AZ15 -> 川アンコウ
G73: =[1]入力シート!BA15 -> アスパラガス | Q73: =[1]入力シート!BB15 -> 唐辛子 | AA73: =[1]入力シート!BC15 -> 青ネギ
B74: 行橋市 | G74: =[1]入力シート!AG16 -> 美夜古人形 | Q74: =[1]入力シート!AH16 -> 祇園飴 | AA74: =[1]入力シート!AI16 -> マテ貝 | AK74: =[1]入力シート!AJ16 -> ガザミ
G75: =[1]入力シート!AK16 -> いちじくジャム | Q75: =[1]入力シート!AL16 -> 桃 | AA75: =[1]入力シート!AM16 -> 梨 | AK75: =[1]入力シート!AN16 -> 豊前海一粒カキ
G76: =[1]入力シート!AO16 -> なばな | Q76: =[1]入力シート!AP16 -> いちじく | AA76: =[1]入力シート!AQ16 -> いちご | AK76: =[1]入力シート!AR16 -> みそだれおでん
G77: =[1]入力シート!AS16 -> ぶどう
B78: 豊前市 | G78: =[1]入力シート!AG17 -> いちご | Q78: =[1]入力シート!AH17 -> ゆず | AA78: =[1]入力シート!AI17 -> 川底柿 | AK78: =[1]入力シート!AJ17 -> いちじく
G79: =[1]入力シート!AK17 -> 豊前茶 | Q79: =[1]入力シート!AL17 -> 豊前海一粒かき | AA79: =[1]入力シート!AM17 -> 豊前本ガニ | AK79: =[1]入力シート!AN17 -> ハモ
G80: =[1]入力シート!AO17 -> ヨシエビ | Q80: =[1]入力シート!AP17 -> 豊前とうがらし | AA80: =[1]入力シート!AQ17 -> 豊前ジビエ | AK80: =[1]入力シート!AR17 -> いちじく加工品（アイス等）
G81: =[1]入力シート!AS17 -> 三毛門カボチャ | Q81: =[1]入力シート!AT17 -> 豊前オニメン | AA81: =[1]入力シート!AU17 -> ベビーリーフ | AK81: =[1]入力シート!AV17 -> スイートコーン
G82: =[1]入力シート!AW17 -> 求菩提そば | Q82: =[1]入力シート!AX17 -> ゆず加工品（ゆず胡椒、ジャム等）
B83: 中間市 | G83: =[1]入力シート!AG18 -> ほのぼの味噌 | Q83: =[1]入力シート!AH18 -> いちじく | AA83: =[1]入力シート!AI18 -> なかまの枝豆 | AK83: =[1]入力シート!AJ18 -> ささぎつね（菓子）
G84: =[1]入力シート!AK18 -> トマト | Q84: =[1]入力シート!AL18 -> グリーンアスパラガス | AA84: =[1]入力シート!AM18 -> 米
B85: 小郡市 | G85: =[1]入力シート!AG19 -> 米 | Q85: =[1]入力シート!AH19 -> いちご | AA85: =[1]入力シート!AI19 -> 洋ラン | AK85: =[1]入力シート!AJ19 -> 七夕織
G86: =[1]入力シート!AK19 -> 鴨料理 | Q86: =[1]入力シート!AL19 -> 大麦 | AA86: =[1]入力シート!AM19 -> 大豆
B87: 筑紫野市 | G87: =[1]入力シート!AG20 -> しょうが | Q87: =[1]入力シート!AH20 -> 柚子こしょう | AA87: =[1]入力シート!AI20 -> 地酒 | AK87: =[1]入力シート!AJ20 -> 味噌漬け
G88: =[1]入力シート!AK20 -> 味噌 | Q88: =[1]入力シート!AL20 -> 自然生（じねんじょう） | AA88: =[1]入力シート!AM20 -> 高取焼 | AK88: =[1]入力シート!AN20 -> 馬油
G89: =[1]入力シート!AO20 -> むかご | Q89: =[1]入力シート!AP20 -> ブロッコリー | AA89: =[1]入力シート!AQ20 -> アスパラガス | AK89: =[1]入力シート!AR20 -> 和牛
B90: 春日市 | G90: =[1]入力シート!AG21 -> ほうれんそう | Q90: =[1]入力シート!AH21 -> しゅんぎく | AA90: =[1]入力シート!AI21 -> 博多カステラみるく＆発酵バター（ドクターイエローパッケージ）
B91: 大野城市 | G91: =[1]入力シート!AG22 -> 本格焼酎「大野城」「樽 大野城」 | AA91: =[1]入力シート!AH22 -> 大野城鶏ぼっかけ | AK91: =[1]入力シート!AI22 -> 貨布せんべい
B92: 宗像市 | G92: =[1]入力シート!AG23 -> 鐘崎天然とらふく | Q92: =[1]入力シート!AH23 -> 鐘崎天然ふく | AA92: =[1]入力シート!AI23 -> 玄海活いか | AK92: =[1]入力シート!AJ23 -> 釣りあじ玄ちゃん
G93: =[1]入力シート!AK23 -> あなご | Q93: =[1]入力シート!AL23 -> アワビ | AA93: =[1]入力シート!AM23 -> サザエ | AK93: =[1]入力シート!AN23 -> ウニ
G94: =[1]入力シート!AO23 -> 地島天然わかめ | Q94: =[1]入力シート!AP23 -> あかもく（海草） | AA94: =[1]入力シート!AQ23 -> のうさば（玄海カズノコ） | AK94: =[1]入力シート!AR23 -> みかん
G95: =[1]入力シート!AS23 -> イチゴ | Q95: =[1]入力シート!AT23 -> いちじく | AA95: =[1]入力シート!AU23 -> 大豆 | AK95: =[1]入力シート!AV23 -> ブロッコリー
G96: =[1]入力シート!AW23 -> キャベツ | Q96: =[1]入力シート!AX23 -> 椿油 | AA96: =[1]入力シート!AY23 -> むなっ猪（ちょ）（イノシシ肉） | AK96: =[1]入力シート!AZ23 -> 甘夏
G97: =[1]入力シート!BA23 -> 鐘崎さわら
B98: 太宰府市 | G98: =[1]入力シート!AG24 -> 木うそ | Q98: =[1]入力シート!AH24 -> 梅ヶ枝餅 | AA98: =[1]入力シート!AI24 -> 太宰府献上願塩 | AK98: =[1]入力シート!AJ24 -> 梅の実
G99: =[1]入力シート!AK24 -> 令和の都だざいふ「梅」プロジェクト製品 | AA99: =[1]入力シート!AL24 -> 永利牛乳
B100: 古賀市 | G100: =[1]入力シート!AG25 -> あまおう（いちご） | Q100: =[1]入力シート!AH25 -> スイートコーン | AA100: =[1]入力シート!AI25 -> 山見阪ネーブル | AK100: =[1]入力シート!AJ25 -> デコポン
G101: =[1]入力シート!AK25 -> 温州みかん | Q101: =[1]入力シート!AL25 -> 鶏すき | AA101: =[1]入力シート!AM25 -> さらさら（郷土料理） | AK101: =[1]入力シート!AN25 -> らぶ（郷土料理）
G102: =[1]入力シート!AO25 -> 焦がし商品 | Q102: =[1]入力シート!AP25 -> 桐製品 | AA102: =[1]入力シート!AQ25 -> 牛めし | AK102: =[1]入力シート!AR25 -> 稲田重造（地酒）
...
