Workbook

Sheet 木・花・鳥
B2: ３ 県内市町村の「木・花・鳥」
B4: 市町村 | G4: 木 | V4: 花 | AK4: 鳥
B5: 北九州市 | G5: =[1]入力シート!C5 -> いちいがし（市のシンボルツリー） | V5: =[1]入力シート!M5 -> ひまわり（市の花）
V6: =[1]入力シート!N5 -> つつじ（市の花）
B7: 福岡市 | G7: =[1]入力シート!C6 -> クロガネモチ（町の木） | V7: =[1]入力シート!M6 -> フヨウ（夏の花） | AK7: =[1]入力シート!W6 -> ユリカモメ（海の鳥）
G8: =[1]入力シート!D6 -> クスノキ（広場の木） | V8: =[1]入力シート!N6 -> サザンカ（冬の花） | AK8: =[1]入力シート!X6 -> ホオジロ（野山の鳥）
B9: 大牟田市 | G9: =[1]入力シート!C7 -> くぬぎ（市の木） | V9: =[1]入力シート!M7 -> やぶつばき（市の花）
B10: 久留米市 | G10: =[1]入力シート!C8 -> 櫨（ふるさとの木） | V10: =[1]入力シート!M8 -> 久留米つつじ
G11: =[1]入力シート!D8 -> 久留米つばき（家庭の木） | V11: =[1]入力シート!N8 -> コスモス
G12: =[1]入力シート!E8 -> くろがねもち（町の木）
G13: =[1]入力シート!F8 -> けやき（町の木）
G14: =[1]入力シート!G8 -> くすのき（学園の木）
B15: 直方市 | G15: =[1]入力シート!C9 -> 泰山木（市の木） | V15: =[1]入力シート!M9 -> チューリップ（市の花：春）
G16: =[1]入力シート!D9 -> ヤマボウシ（市の木） | V16: =[1]入力シート!N9 -> ユリ（市の花：夏）
V17: =[1]入力シート!O9 -> コスモス（市の花：秋）
V18: =[1]入力シート!P9 -> 水仙（市の花：冬）
B19: 飯塚市 | G19: =[1]入力シート!C10 -> クスノキ | V19: =[1]入力シート!M10 -> コスモス
G20: =[1]入力シート!D10 -> メタセコイア | V20: =[1]入力シート!N10 -> スイセン
B21: 田川市 | G21: =[1]入力シート!C11 -> キンモクセイ（市の木） | V21: =[1]入力シート!M11 -> ツツジ（市の花）
G22: =[1]入力シート!D11 -> イチョウ（街路用）
B23: 柳川市 | G23: =[1]入力シート!C12 -> 柳 | V23: =[1]入力シート!M12 -> 花しょうぶ
V24: =[1]入力シート!N12 -> 藤
B25: 八女市 | G25: =[1]入力シート!C13 -> チャノキ | V25: =[1]入力シート!M13 -> 菊
G26: =[1]入力シート!D13 -> クスノキ | V26: =[1]入力シート!N13 -> 藤
V27: =[1]入力シート!O13 -> しゃくなげ
B28: 筑後市 | G28: =[1]入力シート!C14 -> クスノキ（市の木） | V28: =[1]入力シート!M14 -> サザンカ（市の花）
B29: 大川市 | G29: =[1]入力シート!C15 -> 桐（市の木） | V29: =[1]入力シート!M15 -> カンナ（市の花）
B30: 行橋市 | G30: =[1]入力シート!C16 -> モクセイ | V30: =[1]入力シート!M16 -> コスモス
B31: 豊前市 | G31: =[1]入力シート!C17 -> ヤマモモ（市の木） | V31: =[1]入力シート!M17 -> ツクシシャクナゲ（市の花）
B32: 中間市 | G32: =[1]入力シート!C18 -> クロガネモチ（市の木） | V32: =[1]入力シート!M18 -> コスモス（市の花）
G33: =[1]入力シート!D18 -> クス（市の木） | V33: =[1]入力シート!N18 -> パンジー（市の花）
B34: 小郡市 | G34: =[1]入力シート!C19 -> くすのき（市の木） | V34: =[1]入力シート!M19 -> ふじ（市の花） | AK34: =[1]入力シート!W19 -> しらさぎ（市の鳥）
B35: 筑紫野市 | G35: =[1]入力シート!C20 -> つばき | V35: =[1]入力シート!M20 -> サルビア
B36: 春日市 | G36: =[1]入力シート!C21 -> ナギ（市の木） | V36: =[1]入力シート!M21 -> ユリ（市の花）
B37: 大野城市 | G37: =[1]入力シート!C22 -> クロガネモチ | V37: =[1]入力シート!M22 -> ききょう
B38: 宗像市 | G38: =[1]入力シート!C23 -> クスノキ（市の木） | V38: =[1]入力シート!M23 -> カノコユリ（市の花） | AK38: =[1]入力シート!W23 -> オオミズナギドリ（市の鳥）
G39: =[1]入力シート!D23 -> クロマツ（市の木）
B40: 太宰府市 | G40: =[1]入力シート!C24 -> くす（市の木） | V40: =[1]入力シート!M24 -> うめ（市の花）
B41: 古賀市 | G41: =[1]入力シート!C25 -> クロガネモチ | V41: =[1]入力シート!M25 -> コスモス
B42: 福津市 | G42: =[1]入力シート!C26 -> 松 | V42: =[1]入力シート!M26 -> あんずの花
...
