Workbook

Sheet 木・花・鳥
B2: ３ 県内市町村の「木・花・鳥」
B4: 市町村 | G4: 木 | V4: 花 | AK4: 鳥
B5: 北九州市 | G5: =[1]入力シート!C5 -> いちいがし（市のシンボルツリー） | V5: =[1]入力シート!M5 -> ひまわり（市の花）
V6: =[1]入力シート!N5 -> つつじ（市の花）
B7: 福岡市 | G7: =[1]入力シート!C6 -> クロガネモチ（町の木） | V7: =[1]入力シート!M6 -> フヨウ（夏の花） | AK7: =[1]入力シート!W6 -> ユリカモメ（海の鳥）
G8: =[1]入力シート!D6 -> クスノキ（広場の木） | V8: =[1]入力シート!N6 -> サザンカ（冬の花） | AK8: =[1]入力シート!X6 -> ホオジロ（野山の鳥）
B9: 大牟田市 | G9: =[1]入力シート!C7 -> くぬぎ（市の木） | V9: =[1]入力シート!M7 -> やぶつばき（市の花）
B10: 久留米市 | G10: =[1]入力シート!C8 -> 櫨（ふるさとの木） | V10: =[1]入力シート!M8 -> 久留米つつじ
G11: =[1]入力シート!D8 -> 久留米つばき（家庭の木） | V11: =[1]入力シート!N8 -> コスモス
G12: =[1]入力シート!E8 -> くろがねもち（町の木）
G13: =[1]入力シート!F8 -> けやき（町の木）
G14: =[1]入力シート!G8 -> くすのき（学園の木）
B15: 直方市 | G15: =[1]入力シート!C9 -> 泰山木（市の木） | V15: =[1]入力シート!M9 -> チューリップ（市の花：春）
G16: =[1]入力シート!D9 -> ヤマボウシ（市の木） | V16: =[1]入力シート!N9 -> ユリ（市の花：夏）
V17: =[1]入力シート!O9 -> コスモス（市の花：秋）
V18: =[1]入力シート!P9 -> 水仙（市の花：冬）
B19: 飯塚市 | G19: =[1]入力シート!C10 -> クスノキ | V19: =[1]入力シート!M10 -> コスモス
G20: =[1]入力シート!D10 -> メタセコイア | V20: =[1]入力シート!N10 -> スイセン
B21: 田川市 | G21: =[1]入力シート!C11 -> キンモクセイ（市の木） | V21: =[1]入力シート!M11 -> ツツジ（市の花）
G22: =[1]入力シート!D11 -> イチョウ（街路用）
B23: 柳川市 | G23: =[1]入力シート!C12 -> 柳 | V23: =[1]入力シート!M12 -> 花しょうぶ
V24: =[1]入力シート!N12 -> 藤
B25: 八女市 | G25: =[1]入力シート!C13 -> チャノキ | V25: =[1]入力シート!M13 -> 菊
G26: =[1]入力シート!D13 -> クスノキ | V26: =[1]入力シート!N13 -> 藤
V27: =[1]入力シート!O13 -> しゃくなげ
B28: 筑後市 | G28: =[1]入力シート!C14 -> クスノキ（市の木） | V28: =[1]入力シート!M14 -> サザンカ（市の花）
B29: 大川市 | G29: =[1]入力シート!C15 -> 桐（市の木） | V29: =[1]入力シート!M15 -> カンナ（市の花）
B30: 行橋市 | G30: =[1]入力シート!C16 -> モクセイ | V30: =[1]入力シート!M16 -> コスモス
B31: 豊前市 | G31: =[1]入力シート!C17 -> ヤマモモ（市の木） | V31: =[1]入力シート!M17 -> ツクシシャクナゲ（市の花）
B32: 中間市 | G32: =[1]入力シート!C18 -> クロガネモチ（市の木） | V32: =[1]入力シート!M18 -> コスモス（市の花）
G33: =[1]入力シート!D18 -> クス（市の木） | V33: =[1]入力シート!N18 -> パンジー（市の花）
B34: 小郡市 | G34: =[1]入力シート!C19 -> くすのき（市の木） | V34: =[1]入力シート!M19 -> ふじ（市の花） | AK34: =[1]入力シート!W19 -> しらさぎ（市の鳥）
B35: 筑紫野市 | G35: =[1]入力シート!C20 -> つばき | V35: =[1]入力シート!M20 -> サルビア
B36: 春日市 | G36: =[1]入力シート!C21 -> ナギ（市の木） | V36: =[1]入力シート!M21 -> ユリ（市の花）
B37: 大野城市 | G37: =[1]入力シート!C22 -> クロガネモチ | V37: =[1]入力シート!M22 -> ききょう
B38: 宗像市 | G38: =[1]入力シート!C23 -> クスノキ（市の木） | V38: =[1]入力シート!M23 -> カノコユリ（市の花） | AK38: =[1]入力シート!W23 -> オオミズナギドリ（市の鳥）
G39: =[1]入力シート!D23 -> クロマツ（市の木）
B40: 太宰府市 | G40: =[1]入力シート!C24 -> くす（市の木） | V40: =[1]入力シート!M24 -> うめ（市の花）
B41: 古賀市 | G41: =[1]入力シート!C25 -> クロガネモチ | V41: =[1]入力シート!M25 -> コスモス
B42: 福津市 | G42: =[1]入力シート!C26 -> 松 | V42: =[1]入力シート!M26 -> あんずの花
V43: =[1]入力シート!N26 -> なの花
B44: うきは市 | G44: =[1]入力シート!C27 -> 柿の木 | V44: =[1]入力シート!M27 -> 彼岸花 | AK44: =[1]入力シート!W27 -> かわせみ
B45: 宮若市 | G45: =[1]入力シート!C28 -> 桜 | V45: =[1]入力シート!M28 -> 彼岸花
B46: 嘉麻市 | G46: =[1]入力シート!C29 -> さくら（市の木） | V46: =[1]入力シート!M29 -> ツツジ（市の花）
B47: 朝倉市 | G47: =[1]入力シート!C30 -> クス | V47: =[1]入力シート!M30 -> サクラ
G48: =[1]入力シート!D30 -> イチョウ | V48: =[1]入力シート!N30 -> ヒマワリ
G49: =[1]入力シート!E30 -> ツゲ | V49: =[1]入力シート!O30 -> コスモス
B50: みやま市 | G50: =[1]入力シート!C31 -> 楠（市の木） | V50: =[1]入力シート!M31 -> さくら（市の花）
B51: 糸島市 | G51: =[1]入力シート!C32 -> カエデ | V51: =[1]入力シート!M32 -> ハマボウ
B52: 那珂川市 | G52: =[1]入力シート!C33 -> ヤマモモ（市の木） | V52: =[1]入力シート!M33 -> 筑紫シャクナゲ（市の花） | AK52: =[1]入力シート!W33 -> カワセミ（市の鳥）
B53: 宇美町 | G53: =[1]入力シート!C34 -> クスノキ（町の木） | V53: =[1]入力シート!M34 -> ツクシシャクナゲ（町の花）
B54: 篠栗町 | G54: =[1]入力シート!C35 -> スギ（町の木） | V54: =[1]入力シート!M35 -> シュンラン（町の花） | AK54: =[1]入力シート!W35 -> キジバト（町の鳥）
B55: 志免町 | V55: =[1]入力シート!M36 -> 桜（町の花）
B56: 須恵町 | G56: =[1]入力シート!C37 -> やまもも | V56: =[1]入力シート!M37 -> つつじ | AK56: =[1]入力シート!W37 -> うぐいす
B57: 新宮町 | G57: =[1]入力シート!C38 -> クスノキ | V57: =[1]入力シート!M38 -> みかんの花 | AK57: =[1]入力シート!W38 -> メジロ
G58: =[1]入力シート!D38 -> 松
B59: 久山町 | G59: =[1]入力シート!C39 -> けやき | V59: =[1]入力シート!M39 -> えびね
B60: 粕屋町 | G60: =[1]入力シート!C40 -> クロガネモチ（町の木） | V60: =[1]入力シート!M40 -> バラ（町の花）
G61: =[1]入力シート!D40 -> サクラ（町の木） | V61: =[1]入力シート!N40 -> コスモス（町の花）
B62: 芦屋町 | G62: =[1]入力シート!C41 -> くろまつ（町の木） | V62: =[1]入力シート!M41 -> はまゆう（町の花）
B63: 水巻町 | G63: =[1]入力シート!C42 -> イチョウ（町の木） | V63: =[1]入力シート!M42 -> コスモス（町の花）
B64: 岡垣町 | G64: =[1]入力シート!C43 -> 樟（町の木） | V64: =[1]入力シート!M43 -> つつじ（町の花） | AK64: =[1]入力シート!W43 -> カワセミ（町の鳥）
B65: 遠賀町 | G65: =[1]入力シート!C44 -> モクセイ（町の木） | V65: =[1]入力シート!M44 -> スイセン（町の花）
B66: 小竹町 | G66: =[1]入力シート!C45 -> きんもくせい（町の木） | V66: =[1]入力シート!M45 -> ひまわり（町の花）
B67: 鞍手町 | G67: =[1]入力シート!C46 -> 楠 | V67: =[1]入力シート!M46 -> 都忘れ
V68: =[1]入力シート!N46 -> 百合
V69: =[1]入力シート!O46 -> 菊
V70: =[1]入力シート!P46 -> 水仙
V71: =[1]入力シート!Q46 -> 金木犀
B72: 桂川町 | G72: =[1]入力シート!C47 -> 桂（町の木） | V72: =[1]入力シート!M47 -> 金木犀（町の花木）
V73: =[1]入力シート!N47 -> ひまわり（町の花）
B74: 筑前町 | G74: =[1]入力シート!C48 -> 桜（町の木） | V74: =[1]入力シート!M48 -> 藤（町の花） | AK74: =[1]入力シート!W48 -> うぐいす（町の鳥）
B75: 東峰村
B76: 大刀洗町 | G76: =[1]入力シート!C50 -> モチノキ（町の木） | V76: =[1]入力シート!M50 -> サクラ（町の花） | AK76: =[1]入力シート!W50 -> ひばり（町の鳥）
B77: 大木町 | G77: =[1]入力シート!C51 -> 銀杏(町の木) | V77: =[1]入力シート!M51 -> すいれん(町の花)
V78: =[1]入力シート!N51 -> コスモス(町の花)
B79: 広川町 | G79: =[1]入力シート!C52 -> いちょう | V79: =[1]入力シート!M52 -> 菊
B80: 香春町 | G80: =[1]入力シート!C53 -> いちょう（町の木） | V80: =[1]入力シート!M53 -> 梅（町の花） | AK80: =[1]入力シート!W53 -> ウグイス（町の鳥）
B81: 添田町 | G81: =[1]入力シート!C54 -> 樫（町の木） | V81: =[1]入力シート!M54 -> シャクナゲ（町の花）
B82: 糸田町 | G82: =[1]入力シート!C55 -> イチョウ | V82: =[1]入力シート!M55 -> 菊
V83: =[1]入力シート!N55 -> サザンカ
B84: 川崎町 | G84: =[1]入力シート!C56 -> いちょう（町の木） | V84: =[1]入力シート!M56 -> ひまわり（町の花）
B85: 大任町 | G85: =[1]入力シート!C57 -> 松（町の木） | V85: =[1]入力シート!M57 -> ツバキ（町の花木） | AK85: =[1]入力シート!W57 -> めじろ（町の鳥）
V86: =[1]入力シート!N57 -> 菜の花（町の花）
B87: 赤村 | G87: =[1]入力シート!C58 -> ゆす | V87: =[1]入力シート!M58 -> 春蘭 | AK87: =[1]入力シート!W58 -> めじろ
B88: 福智町 | G88: =[1]入力シート!C59 -> エドヒガン（サクラ） | V88: =[1]入力シート!M59 -> フジ | AK88: =[1]入力シート!W59 -> ウグイス
B89: 苅田町 | G89: =[1]入力シート!C60 -> 楠（町の木） | V89: =[1]入力シート!M60 -> 三色すみれ（町の花）
B90: みやこ町 | G90: =[1]入力シート!C61 -> もみじ（町の木） | V90: =[1]入力シート!M61 -> さくら（町の花） | AK90: =[1]入力シート!W61 -> うぐいす（町の鳥）
B91: 吉富町 | G91: =[1]入力シート!C62 -> もくせい（町の木） | V91: =[1]入力シート!M62 -> さつき（町の花）
B92: 上毛町 | G92: =[1]入力シート!C63 -> 梅 | V92: =[1]入力シート!M63 -> 桜（春）
V93: =[1]入力シート!N63 -> コスモス（秋）
B94: 築上町 | G94: =[1]入力シート!C64 -> 楠（町の木） | V94: =[1]入力シート!M64 -> 梅（町の花） | AK94: =[1]入力シート!W64 -> うぐいす（町の鳥）
