Workbook

Sheet 主な郷土出身者
B2: ５ 県内市町村の「主な郷土出身者」
B4: 市町村 | G4: 主な郷土出身者
B5: 北九州市 | G5: =[1]入力シート!CN5 -> 市川新蔵 （歌舞伎俳優） | V5: =[1]入力シート!CO5 -> 伊藤京子 （ピアニスト） | AK5: =[1]入力シート!CP5 -> 宇佐美志都（書家・文字文化文筆家）
G6: =[1]入力シート!CQ5 -> 鵜木日土実 （ピアニスト） | V6: =[1]入力シート!CR5 -> 大竹英雄 （囲碁棋士・名誉碁聖） | AK6: =[1]入力シート!CS5 -> 大西ゆか （声楽家）
G7: =[1]入力シート!CT5 -> 金子有希（声優） | V7: =[1]入力シート!CU5 -> 川口ヱリサ （ヴァイオリニスト） | AK7: =[1]入力シート!CV5 -> 川口さやか （ピアニスト）
G8: =[1]入力シート!CW5 -> 川原尚行 （NPO＆NGO 医師） | V8: =[1]入力シート!CX5 -> 篠崎史紀 （ヴァイオリニスト） | AK8: =[1]入力シート!CY5 -> 杉山邦博（アナウンサー）
G9: =[1]入力シート!CZ5 -> せきやてつじ（漫画家） | V9: =[1]入力シート!DA5 -> 橘家蔵之助（落語家） | AK9: =[1]入力シート!DB5 -> 谷口英治 （クラリネット奏者）
G10: =[1]入力シート!DC5 -> 津村禮次郎（観世流 能楽師） | V10: =[1]入力シート!DD5 -> 豊嶋起久子 （声楽家） | AK10: =[1]入力シート!DE5 -> 冨永裕輔 （シンガーソングライター）
G11: =[1]入力シート!DF5 -> 中村かなめ （歌舞伎俳優） | V11: =[1]入力シート!DG5 -> 中村太地（ヴァイオリニスト） | AK11: =[1]入力シート!DH5 -> 中村ゆうじ （俳優・パントマイマー）
G12: =[1]入力シート!DI5 -> 平野啓一郎（小説家） | V12: =[1]入力シート!DJ5 -> 葉月けめこ（ライター） | AK12: =[1]入力シート!DK5 -> 林家きく麿（落語家）
G13: =[1]入力シート!DL5 -> 平出隆（詩人） | V13: =[1]入力シート!DM5 -> 牧野伊三夫 (画家) | AK13: =[1]入力シート!DN5 -> 平山秀幸 (映画監督)
G14: =[1]入力シート!DO5 -> 藤原樹（パフォーマー/俳優） | V14: =[1]入力シート!DP5 -> 前田佳織里（声優） | AK14: =[1]入力シート!DQ5 -> 森野由み (声楽家)
G15: =[1]入力シート!DR5 -> 南紫音 （ヴァイオリニスト） | V15: =[1]入力シート!DS5 -> 森岡謙一 (声楽家) | AK15: =[1]入力シート!DT5 -> 森下卓 (将棋棋士)
G16: =[1]入力シート!DU5 -> 横内謙介 (劇作家) | V16: =[1]入力シート!DV5 -> Sadaharu Yagi（プロデューサー、レコーディング・エンジニア）
G17: =[1]入力シート!DW5 -> 山本リンダ（歌手） | V17: =[1]入力シート!DX5 -> 吉本実憂（俳優） | AK17: =[1]入力シート!DY5 -> 池元友樹（元プロサッカー選手）
G18: =[1]入力シート!DZ5 -> 柳亭燕路 (落語家) | V18: =[1]入力シート!EA5 -> リリー・フランキー（イラストレーター・小説家）
G19: =[1]入力シート!EB5 -> 和田直也（作曲家） | V19: =[1]入力シート!EC5 -> 内村航平（元プロ体操選手） | AK19: =[1]入力シート!ED5 -> 今永昇太（プロ野球選手）
G20: =[1]入力シート!EE5 -> 入江ゆき（レスリング選手） | V20: =[1]入力シート!EF5 -> 植木通彦 (元競艇選手) | AK20: =[1]入力シート!EG5 -> 北津留翼 (競輪選手)
G21: =[1]入力シート!EH5 -> 太田和臣（ウエイトリフティング選手） | V21: =[1]入力シート!EI5 -> カズ山本 (元プロ野球選手） | AK21: =[1]入力シート!EJ5 -> 岸川聖也 (卓球選手)
G22: =[1]入力シート!EK5 -> 柴原洋 (元プロ野球選手) | V22: =[1]入力シート!EL5 -> 君原健二（マラソン選手） | AK22: =[1]入力シート!EM5 -> 金哲彦（プロランニングコーチ）
G23: =[1]入力シート!EN5 -> 早田ひな（卓球選手） | V23: =[1]入力シート!EO5 -> 東慶悟（プロサッカー選手） | AK23: =[1]入力シート!EP5 -> 竹下佳江（元バレーボール選手）
G24: =[1]入力シート!EQ5 -> 永井謙佑（プロサッカー選手） | V24: =[1]入力シート!ER5 -> 箕内拓郎（元ラグビー選手） | AK24: =[1]入力シート!ES5 -> 森本太郎 (元セーリング選手)
G25: =[1]入力シート!ET5 -> 福井烈（プロテニスプレイヤー） | V25: =[1]入力シート!EU5 -> 本田泰人（元プロサッカー選手） | AK25: =[1]入力シート!EV5 -> 秋本祐希（女優・モデル）
G26: =[1]入力シート!EW5 -> 天野功一（天寿司） | V26: =[1]入力シート!EX5 -> 山田章仁（ラグビー選手） | AK26: =[1]入力シート!EY5 -> 吉岡稔真（元競輪選手）
G27: =[1]入力シート!EZ5 -> 芋洗坂係長（ダンサー・振付師・お笑い芸人） | AK27: 大串奈央（ロックアーティスト）
G28: =[1]入力シート!FB5 -> 磯田久美子（アナウンサー） | V28: =[1]入力シート!FC5 -> １７５R（ミュージシャン） | AK28: =[1]入力シート!FD5 -> KAZYA(ギタリスト）
G29: =[1]入力シート!FE5 -> キタキュウマン（ご当地ヒーロー） | V29: =[1]入力シート!FF5 -> お祭りBoy（タレント） | AK29: =[1]入力シート!FG5 -> お宮の松（タレント・芸人）
G30: =[1]入力シート!FH5 -> 紗綾（タレント） | V30: =[1]入力シート!FI5 -> 櫻（シンガー） | AK30: =[1]入力シート!FJ5 -> 古閑正美（ミュージシャン）
G31: =[1]入力シート!FK5 -> 小森順二（GUNN）（ミュージシャン） | V31: =[1]入力シート!FL5 -> 高城亜樹（タレント） | AK31: =[1]入力シート!FM5 -> 高田憂希(声優）
G32: =[1]入力シート!FN5 -> 佐々木正洋（アナウンサー） | V32: =[1]入力シート!FO5 -> 白石さおり（オーディション評論家・タレント）
G33: =[1]入力シート!FP5 -> 袴着淳一（アーティスト・小説家・ファッションデザイナー） | AK33: =[1]入力シート!FQ5 -> 萩尾みどり（女優）
G34: =[1]入力シート!FR5 -> 田代美代子（シャンソン歌手） | V34: =[1]入力シート!FS5 -> 多田野曜平(声優） | AK34: =[1]入力シート!FT5 -> ビックスモールン・ゴン（タレント）
G35: =[1]入力シート!FU5 -> 日野真一郎（ヴォーカリスト（LE VELVETS）） | AK35: =[1]入力シート!FV5 -> 原岡薫(大学教授・コメンテーター）
G36: =[1]入力シート!FW5 -> 原口あきまさ（タレント） | V36: =[1]入力シート!FX5 -> 光石研（俳優） | AK36: =[1]入力シート!FY5 -> 宮本隆治（アナウンサー）
G37: =[1]入力シート!FZ5 -> 深見亮介（俳優） | V37: =[1]入力シート!GA5 -> 藤田大吾（シンガーソングライター） | AK37: =[1]入力シート!GB5 -> 安河内眞美（鑑定士）
G38: =[1]入力シート!GC5 -> 横内正（俳優） | V38: =[1]入力シート!GD5 -> 向山毅（ミュージシャン（SHOW-WA））
G39: =[1]入力シート!GE5 -> 森田順平（俳優） | V39: =[1]入力シート!GF5 -> ロバート（タレント）・馬場裕之 | AK39: =[1]入力シート!GG5 -> 渡邊貴義(照寿司）
G40: =[1]入力シート!GH5 -> 吉開りりぃ(歌手) | V40: =[1]入力シート!GI5 -> ロバート（タレント）・秋山竜次
B41: 福岡市 | G41: =[1]入力シート!CO6 -> 上野由岐子（オリンピック・ソフトボール） | AK41: =[1]入力シート!CP6 -> 梶原大暉（パラリンピック・バドミントン）
G42: =[1]入力シート!CQ6 -> 床嶋佳子（俳優） | V42: =[1]入力シート!CR6 -> 武田鉄矢（タレント） | AK42: =[1]入力シート!CS6 -> タモリ（タレント）
...
