Workbook

Sheet 主な郷土出身者
B2: ５ 県内市町村の「主な郷土出身者」
B4: 市町村 | G4: 主な郷土出身者
B5: 北九州市 | G5: =[1]入力シート!CN5 -> 市川新蔵 （歌舞伎俳優） | V5: =[1]入力シート!CO5 -> 伊藤京子 （ピアニスト） | AK5: =[1]入力シート!CP5 -> 宇佐美志都（書家・文字文化文筆家）
G6: =[1]入力シート!CQ5 -> 鵜木日土実 （ピアニスト） | V6: =[1]入力シート!CR5 -> 大竹英雄 （囲碁棋士・名誉碁聖） | AK6: =[1]入力シート!CS5 -> 大西ゆか （声楽家）
G7: =[1]入力シート!CT5 -> 金子有希（声優） | V7: =[1]入力シート!CU5 -> 川口ヱリサ （ヴァイオリニスト） | AK7: =[1]入力シート!CV5 -> 川口さやか （ピアニスト）
G8: =[1]入力シート!CW5 -> 川原尚行 （NPO＆NGO 医師） | V8: =[1]入力シート!CX5 -> 篠崎史紀 （ヴァイオリニスト） | AK8: =[1]入力シート!CY5 -> 杉山邦博（アナウンサー）
G9: =[1]入力シート!CZ5 -> せきやてつじ（漫画家） | V9: =[1]入力シート!DA5 -> 橘家蔵之助（落語家） | AK9: =[1]入力シート!DB5 -> 谷口英治 （クラリネット奏者）
G10: =[1]入力シート!DC5 -> 津村禮次郎（観世流 能楽師） | V10: =[1]入力シート!DD5 -> 豊嶋起久子 （声楽家） | AK10: =[1]入力シート!DE5 -> 冨永裕輔 （シンガーソングライター）
G11: =[1]入力シート!DF5 -> 中村かなめ （歌舞伎俳優） | V11: =[1]入力シート!DG5 -> 中村太地（ヴァイオリニスト） | AK11: =[1]入力シート!DH5 -> 中村ゆうじ （俳優・パントマイマー）
G12: =[1]入力シート!DI5 -> 平野啓一郎（小説家） | V12: =[1]入力シート!DJ5 -> 葉月けめこ（ライター） | AK12: =[1]入力シート!DK5 -> 林家きく麿（落語家）
G13: =[1]入力シート!DL5 -> 平出隆（詩人） | V13: =[1]入力シート!DM5 -> 牧野伊三夫 (画家) | AK13: =[1]入力シート!DN5 -> 平山秀幸 (映画監督)
G14: =[1]入力シート!DO5 -> 藤原樹（パフォーマー/俳優） | V14: =[1]入力シート!DP5 -> 前田佳織里（声優） | AK14: =[1]入力シート!DQ5 -> 森野由み (声楽家)
G15: =[1]入力シート!DR5 -> 南紫音 （ヴァイオリニスト） | V15: =[1]入力シート!DS5 -> 森岡謙一 (声楽家) | AK15: =[1]入力シート!DT5 -> 森下卓 (将棋棋士)
G16: =[1]入力シート!DU5 -> 横内謙介 (劇作家) | V16: =[1]入力シート!DV5 -> Sadaharu Yagi（プロデューサー、レコーディング・エンジニア）
G17: =[1]入力シート!DW5 -> 山本リンダ（歌手） | V17: =[1]入力シート!DX5 -> 吉本実憂（俳優） | AK17: =[1]入力シート!DY5 -> 池元友樹（元プロサッカー選手）
G18: =[1]入力シート!DZ5 -> 柳亭燕路 (落語家) | V18: =[1]入力シート!EA5 -> リリー・フランキー（イラストレーター・小説家）
G19: =[1]入力シート!EB5 -> 和田直也（作曲家） | V19: =[1]入力シート!EC5 -> 内村航平（元プロ体操選手） | AK19: =[1]入力シート!ED5 -> 今永昇太（プロ野球選手）
G20: =[1]入力シート!EE5 -> 入江ゆき（レスリング選手） | V20: =[1]入力シート!EF5 -> 植木通彦 (元競艇選手) | AK20: =[1]入力シート!EG5 -> 北津留翼 (競輪選手)
G21: =[1]入力シート!EH5 -> 太田和臣（ウエイトリフティング選手） | V21: =[1]入力シート!EI5 -> カズ山本 (元プロ野球選手） | AK21: =[1]入力シート!EJ5 -> 岸川聖也 (卓球選手)
G22: =[1]入力シート!EK5 -> 柴原洋 (元プロ野球選手) | V22: =[1]入力シート!EL5 -> 君原健二（マラソン選手） | AK22: =[1]入力シート!EM5 -> 金哲彦（プロランニングコーチ）
G23: =[1]入力シート!EN5 -> 早田ひな（卓球選手） | V23: =[1]入力シート!EO5 -> 東慶悟（プロサッカー選手） | AK23: =[1]入力シート!EP5 -> 竹下佳江（元バレーボール選手）
G24: =[1]入力シート!EQ5 -> 永井謙佑（プロサッカー選手） | V24: =[1]入力シート!ER5 -> 箕内拓郎（元ラグビー選手） | AK24: =[1]入力シート!ES5 -> 森本太郎 (元セーリング選手)
G25: =[1]入力シート!ET5 -> 福井烈（プロテニスプレイヤー） | V25: =[1]入力シート!EU5 -> 本田泰人（元プロサッカー選手） | AK25: =[1]入力シート!EV5 -> 秋本祐希（女優・モデル）
G26: =[1]入力シート!EW5 -> 天野功一（天寿司） | V26: =[1]入力シート!EX5 -> 山田章仁（ラグビー選手） | AK26: =[1]入力シート!EY5 -> 吉岡稔真（元競輪選手）
G27: =[1]入力シート!EZ5 -> 芋洗坂係長（ダンサー・振付師・お笑い芸人） | AK27: 大串奈央（ロックアーティスト）
G28: =[1]入力シート!FB5 -> 磯田久美子（アナウンサー） | V28: =[1]入力シート!FC5 -> １７５R（ミュージシャン） | AK28: =[1]入力シート!FD5 -> KAZYA(ギタリスト）
G29: =[1]入力シート!FE5 -> キタキュウマン（ご当地ヒーロー） | V29: =[1]入力シート!FF5 -> お祭りBoy（タレント） | AK29: =[1]入力シート!FG5 -> お宮の松（タレント・芸人）
G30: =[1]入力シート!FH5 -> 紗綾（タレント） | V30: =[1]入力シート!FI5 -> 櫻（シンガー） | AK30: =[1]入力シート!FJ5 -> 古閑正美（ミュージシャン）
G31: =[1]入力シート!FK5 -> 小森順二（GUNN）（ミュージシャン） | V31: =[1]入力シート!FL5 -> 高城亜樹（タレント） | AK31: =[1]入力シート!FM5 -> 高田憂希(声優）
G32: =[1]入力シート!FN5 -> 佐々木正洋（アナウンサー） | V32: =[1]入力シート!FO5 -> 白石さおり（オーディション評論家・タレント）
G33: =[1]入力シート!FP5 -> 袴着淳一（アーティスト・小説家・ファッションデザイナー） | AK33: =[1]入力シート!FQ5 -> 萩尾みどり（女優）
G34: =[1]入力シート!FR5 -> 田代美代子（シャンソン歌手） | V34: =[1]入力シート!FS5 -> 多田野曜平(声優） | AK34: =[1]入力シート!FT5 -> ビックスモールン・ゴン（タレント）
G35: =[1]入力シート!FU5 -> 日野真一郎（ヴォーカリスト（LE VELVETS）） | AK35: =[1]入力シート!FV5 -> 原岡薫(大学教授・コメンテーター）
G36: =[1]入力シート!FW5 -> 原口あきまさ（タレント） | V36: =[1]入力シート!FX5 -> 光石研（俳優） | AK36: =[1]入力シート!FY5 -> 宮本隆治（アナウンサー）
G37: =[1]入力シート!FZ5 -> 深見亮介（俳優） | V37: =[1]入力シート!GA5 -> 藤田大吾（シンガーソングライター） | AK37: =[1]入力シート!GB5 -> 安河内眞美（鑑定士）
G38: =[1]入力シート!GC5 -> 横内正（俳優） | V38: =[1]入力シート!GD5 -> 向山毅（ミュージシャン（SHOW-WA））
G39: =[1]入力シート!GE5 -> 森田順平（俳優） | V39: =[1]入力シート!GF5 -> ロバート（タレント）・馬場裕之 | AK39: =[1]入力シート!GG5 -> 渡邊貴義(照寿司）
G40: =[1]入力シート!GH5 -> 吉開りりぃ(歌手) | V40: =[1]入力シート!GI5 -> ロバート（タレント）・秋山竜次
B41: 福岡市 | G41: =[1]入力シート!CO6 -> 上野由岐子（オリンピック・ソフトボール） | AK41: =[1]入力シート!CP6 -> 梶原大暉（パラリンピック・バドミントン）
G42: =[1]入力シート!CQ6 -> 床嶋佳子（俳優） | V42: =[1]入力シート!CR6 -> 武田鉄矢（タレント） | AK42: =[1]入力シート!CS6 -> タモリ（タレント）
G43: =[1]入力シート!CT6 -> 牧瀬里穂（俳優） | V43: =[1]入力シート!CU6 -> 谷亮子（柔道家） | AK43: =[1]入力シート!CV6 -> 原沙知絵（俳優）
G44: =[1]入力シート!CW6 -> 米倉斉加年（俳優） | V44: =[1]入力シート!CX6 -> カンニング竹山（タレント） | AK44: =[1]入力シート!CY6 -> 伊佐山ひろ子（俳優）
G45: =[1]入力シート!CZ6 -> 西島伊三雄（グラフィックデザイナー） | V45: =[1]入力シート!DA6 -> 石井岳龍（映画監督） | AK45: =[1]入力シート!DB6 -> 赤川次郎（作家）
G46: =[1]入力シート!DC6 -> 一丸章（詩人） | V46: =[1]入力シート!DD6 -> うえやまとち（漫画家） | AK46: =[1]入力シート!DE6 -> KABAちゃん（タレント）
G47: =[1]入力シート!DF6 -> 倉田真由美（漫画家） | V47: =[1]入力シート!DG6 -> 椎名林檎（歌手） | AK47: =[1]入力シート!DH6 -> 甲斐よしひろ（歌手）
G48: =[1]入力シート!DI6 -> 白石一文（作家） | V48: =[1]入力シート!DJ6 -> 榊晃弘（写真家） | AK48: =[1]入力シート!DK6 -> 川嶋あい（歌手）
G49: =[1]入力シート!DL6 -> 長谷川法世（漫画家） | V49: =[1]入力シート!DM6 -> 小松政夫（タレント） | AK49: =[1]入力シート!DN6 -> 小柳ルミ子（歌手）
G50: =[1]入力シート!DO6 -> 金子堅太郎（元司法大臣・農商務大臣） | AK50: =[1]入力シート!DP6 -> 高橋真梨子（歌手）
G51: =[1]入力シート!DQ6 -> 橘慶太（歌手） | V51: =[1]入力シート!DR6 -> 田中れいな（歌手） | AK51: =[1]入力シート!DS6 -> 財津和夫（歌手）
G52: =[1]入力シート!DT6 -> 團琢磨（元三井合名会社理事長） | V52: =[1]入力シート!DU6 -> 氷川きよし（歌手） | AK52: =[1]入力シート!DV6 -> 浜崎あゆみ（歌手）
G53: =[1]入力シート!DW6 -> 広田弘毅（政治家） | V53: =[1]入力シート!DX6 -> 草野マサムネ（歌手） | AK53: =[1]入力シート!DY6 -> 森口博子（タレント）
G54: =[1]入力シート!DZ6 -> KAN（歌手） | V54: =[1]入力シート!EA6 -> 博多華丸（漫才） | AK54: =[1]入力シート!EB6 -> 佐々木健介（プロレスラー）
G55: =[1]入力シート!EC6 -> 新庄剛志（タレント） | V55: =[1]入力シート!ED6 -> 小林よしのり（漫画家） | AK55: =[1]入力シート!EE6 -> 梓みちよ（歌手）
G56: =[1]入力シート!EF6 -> 入江信吾（脚本家） | V56: =[1]入力シート!EG6 -> 吉田羊（俳優） | AK56: =[1]入力シート!EH6 -> 中村あゆみ（歌手）
G57: =[1]入力シート!EI6 -> 山本美月（俳優） | V57: =[1]入力シート!EJ6 -> 瀬戸康史（俳優） | AK57: =[1]入力シート!EK6 -> 奈緒（俳優）
G58: =[1]入力シート!EL6 -> 橋本環奈（俳優） | V58: =[1]入力シート!EM6 -> 松重豊（俳優） | AK58: =[1]入力シート!EN6 -> 中村哲（医師）
B59: 大牟田市 | G59: =[1]入力シート!CO7 -> 大津英敏（画家） | V59: =[1]入力シート!CP7 -> 古賀隆一（彫刻家） | AK59: =[1]入力シート!CQ7 -> 毛利恒之（作家・脚本家）
G60: =[1]入力シート!CR7 -> 内田麟太郎（絵詞作家） | V60: =[1]入力シート!CS7 -> 萩尾望都（漫画家） | AK60: =[1]入力シート!CT7 -> 西村健（作家）
G61: =[1]入力シート!CU7 -> 黒田東彦（元日本銀行総裁） | V61: =[1]入力シート!CV7 -> 鳥井守幸（ジャーナリスト） | AK61: =[1]入力シート!CW7 -> 真弓明信（元プロ野球選手）
G62: =[1]入力シート!CX7 -> 村上嵩幸（元プロ野球選手） | V62: =[1]入力シート!CY7 -> 牧坂考作（プロゴルファー） | AK62: =[1]入力シート!CZ7 -> 四方堂亘（俳優）
G63: =[1]入力シート!DA7 -> 中西和久（俳優） | V63: =[1]入力シート!DB7 -> 林田麻里（俳優） | AK63: =[1]入力シート!DC7 -> 長友仍世（歌手）
G64: =[1]入力シート!DD7 -> 諸岡なほ子（タレント） | V64: =[1]入力シート!DE7 -> 櫻井龍子（元最高裁判所判事) | AK64: =[1]入力シート!DF7 -> 日野晃博（ゲームクリエイター）
G65: =[1]入力シート!DG7 -> 中島浩二（タレント） | V65: =[1]入力シート!DH7 -> 杉野宣雄（押し花作家） | AK65: =[1]入力シート!DI7 -> 植木力（彫刻家）
G66: =[1]入力シート!DJ7 -> 伊藤東彦（陶芸家） | V66: =[1]入力シート!DK7 -> 草野唯雄（作家） | AK66: =[1]入力シート!DL7 -> 立花種恭（学習院初代院長）
G67: =[1]入力シート!DM7 -> 下地敏雄（教育アドバイザー） | V67: =[1]入力シート!DN7 -> 藤木俊（漫画家） | AK67: =[1]入力シート!DO7 -> 原辰徳（元プロ野球選手）
G68: =[1]入力シート!DP7 -> 鴨川つばめ（漫画家） | V68: =[1]入力シート!DQ7 -> 中村哲（医師）
G69: =[1]入力シート!DR7 -> 高嶋理紗（パリオリンピックフェンシング銅メダリスト）
B70: 久留米市 | G70: =[1]入力シート!CO8 -> 青木繁（画家） | V70: =[1]入力シート!CP8 -> 秋吉耕佑（レーシングライダー） | AK70: =[1]入力シート!CQ8 -> 鮎川誠（歌手）
G71: =[1]入力シート!CR8 -> 石井光次郎（政治家） | V71: =[1]入力シート!CS8 -> 石橋正二郎（ＢＳ創始者） | AK71: =[1]入力シート!CT8 -> 石橋凌(俳優・ミュージシャン）
G72: =[1]入力シート!CU8 -> 伊藤祥平（シンガーソングライター） | V72: =[1]入力シート!CV8 -> 井上伝（久留米絣の始祖） | AK72: =[1]入力シート!CW8 -> 植田真梨恵（歌手）
G73: =[1]入力シート!CX8 -> 牛島謹爾（ポテト王） | V73: =[1]入力シート!CY8 -> 内田博幸（競馬騎手） | AK73: =[1]入力シート!CZ8 -> 緒方良行（スポーツクライマー）
G74: =[1]入力シート!DA8 -> 小野郁（プロ野球選手） | V74: =[1]入力シート!DB8 -> 川瀬露秋（地唄筝曲胡弓演奏家） | AK74: =[1]入力シート!DC8 -> 黒田りさ（タレント）
G75: =[1]入力シート!DD8 -> 諸田賢順（筝曲） | V75: =[1]入力シート!DE8 -> こがけん（お笑い芸人） | AK75: =[1]入力シート!DF8 -> 古賀春江（画家）
G76: =[1]入力シート!DG8 -> 古賀若菜（柔道選手） | V76: =[1]入力シート!DH8 -> 財木琢磨（俳優） | AK76: =[1]入力シート!DI8 -> 坂口征二（プロレスラー）
G77: =[1]入力シート!DJ8 -> 坂本繁二郎（画家） | V77: =[1]入力シート!DK8 -> 四島一二三(福岡シティ銀行創設者) | AK77: =[1]入力シート!DL8 -> 城後寿（サッカー選手）
G78: =[1]入力シート!DM8 -> 素根輝（柔道選手） | V78: =[1]入力シート!DN8 -> 髙島野十郎（画家） | AK78: =[1]入力シート!DO8 -> 高田里穂（俳優）
G79: =[1]入力シート!DP8 -> 高野洸（俳優・アーティスト） | V79: =[1]入力シート!DQ8 -> 田中菜緒子（ピアニスト） | AK79: =[1]入力シート!DR8 -> 田中久重（東芝創始者）
G80: =[1]入力シート!DS8 -> 田中光哉（パラテコンドー選手） | V80: =[1]入力シート!DT8 -> 田中麗奈（俳優） | AK80: =[1]入力シート!DU8 -> 藤堂輝明（民謡歌手）
G81: =[1]入力シート!DV8 -> 豊田勝秋（工芸家） | V81: =[1]入力シート!DW8 -> 豊福知徳（彫刻家） | AK81: =[1]入力シート!DX8 -> 中野浩一（競輪選手）
G82: =[1]入力シート!DY8 -> 中村八大（音楽家） | V82: =[1]入力シート!DZ8 -> 流大（プロラグビー選手） | AK82: =[1]入力シート!EA8 -> 野田かつひこ（シンガーソングライター）
G83: =[1]入力シート!EB8 -> HAL-CA（ギタリスト） | V83: =[1]入力シート!EC8 -> パントビスコ（マルチクリエイター） | AK83: =[1]入力シート!ED8 -> 日比翁助（三越創始者）
G84: =[1]入力シート!EE8 -> 藤井フミヤ（アーティスト） | V84: =[1]入力シート!EF8 -> 藤田吉香（画家） | AK84: =[1]入力シート!EG8 -> 藤吉久美子（俳優）
G85: =[1]入力シート!EH8 -> 細川潤一（作曲家） | V85: =[1]入力シート!EI8 -> 牧原大成（プロ野球選手） | AK85: =[1]入力シート!EJ8 -> 松隈ケンタ（音楽プロデューサー）
G86: =[1]入力シート!EK8 -> 松田聖子（歌手） | V86: =[1]入力シート!EL8 -> 松田諦晶（画家） | AK86: =[1]入力シート!EM8 -> 丸山豊（詩人）
G87: =[1]入力シート!EN8 -> 宮崎哲弥（評論家） | V87: =[1]入力シート!EO8 -> 山田康介（映画監督） | AK87: =[1]入力シート!EP8 -> 山田麻莉奈（声優）
G88: =[1]入力シート!EQ8 -> 吉田羊（俳優）
B89: 直方市 | G89: =[1]入力シート!CO9 -> 野見山朱鳥（俳人） | V89: =[1]入力シート!CP9 -> 阿部王樹（俳人） | AK89: =[1]入力シート!CQ9 -> 浅香山親方（元大関魁皇）
G90: =[1]入力シート!CR9 -> 田中彰孝（ミュージカル俳優） | V90: =[1]入力シート!CS9 -> 入江雅人（俳優） | AK90: =[1]入力シート!CT9 -> 鋤田正義（写真家）
G91: =[1]入力シート!CU9 -> 和田峯幸生（プロボクサー） | V91: =[1]入力シート!CV9 -> 三友康平（元プロバスケットボール選手）
G92: =[1]入力シート!CW9 -> 森弘一郎（パフォーミングアーティスト） | V92: =[1]入力シート!CX9 -> 野上結美（声楽家） | AK92: 栗原美和子（プロデューサー）
G93: =[1]入力シート!CZ9 -> 山口吉隆（軍鶏・シンガー） | V93: =[1]入力シート!DA9 -> 松尾卓也（株式会社17 クリエイティブディレクター）
G94: =[1]入力シート!DB9 -> 鈴木徹平（United BrassWinds"step"ミュージックディレクター） | AK94: =[1]入力シート!DC9 -> 占部由美子（クラシックピアニスト）
G95: =[1]入力シート!DD9 -> 桑田靖子（歌手） | V95: =[1]入力シート!DE9 -> KEN（切り絵クリエイター・ふるさと応援大使）
B96: 飯塚市 | G96: =[1]入力シート!CO10 -> 伊藤伝右衛門（大正３年大正鉱業株式会社設立) | AK96: =[1]入力シート!CQ10 -> 前田勝之助（東レ㈱ 名誉会長)
G97: =[1]入力シート!CS10 -> 岡本麗（俳優) | V97: =[1]入力シート!CT10 -> 福澤猷男（画家） | AK97: =[1]入力シート!CU10 -> 井上陽水（歌手）
G98: =[1]入力シート!CW10 -> 久保康生（元プロ野球選手） | V98: =[1]入力シート!CX10 -> 麻生太郎（元内閣総理大臣） | AK98: =[1]入力シート!CY10 -> 荻田伍（アサヒビール㈱元会長）
G99: =[1]入力シート!DA10 -> 江頭匡一（ロイヤル㈱創業者） | V99: =[1]入力シート!DB10 -> 野見山暁治（画家） | AK99: =[1]入力シート!DC10 -> 肘井美佳（俳優）
G100: =[1]入力シート!DE10 -> 藤松宙愛（タレント） | V100: =[1]入力シート!DF10 -> 芳野友美（俳優） | AK100: =[1]入力シート!DG10 -> 山口（力士）
B101: 田川市 | G101: =[1]入力シート!CO11 -> 山下洋輔（ジャズピアニスト） | V101: =[1]入力シート!CP11 -> 立花重雄（洋画家） | AK101: =[1]入力シート!CQ11 -> 立石大河亞（画家）
G102: =[1]入力シート!CR11 -> 松永真（グラフィックデザイナー） | V102: =[1]入力シート!CS11 -> 松永鶴雲（書道家） | AK102: =[1]入力シート!CT11 -> ザ・フライングエレファンツ（歌手）
...
