Workbook

Sheet 姉妹都市・友好都市等
B2: ６ 県内市町村の「姉妹都市・友好都市等」
B4: 市町村 | G4: 姉妹都市・友好都市等
B5: 北九州市 | G5: =[1]入力シート!HX5 -> タコマ市(アメリカ)（姉妹都市） | AD5: =[1]入力シート!HY5 -> ノーフォーク市(アメリカ)（姉妹都市）
G6: =[1]入力シート!HZ5 -> 大連市（中国）（友好都市） | AD6: =[1]入力シート!IA5 -> 仁川広域市（韓国）（姉妹都市）
G7: =[1]入力シート!IB5 -> ハイフォン市（ベトナム）（姉妹都市） | AD7: =[1]入力シート!IC5 -> プノンペン都（カンボジア）（姉妹都市）
B8: 福岡市 | G8: =[1]入力シート!HY6 -> オークランド市（アメリカ合衆国）（姉妹都市） | AD8: =[1]入力シート!HZ6 -> 広州市（中華人民共和国）（友好都市）
G9: =[1]入力シート!IA6 -> ボルドー市（フランス共和国）（姉妹都市） | AD9: =[1]入力シート!IB6 -> オークランド市（ニュージーランド）（姉妹都市）
G10: =[1]入力シート!IC6 -> イポー市（マレーシア）（姉妹都市） | AD10: =[1]入力シート!ID6 -> 釜山広域市（大韓民国）（姉妹都市）
G11: =[1]入力シート!IE6 -> アトランタ市（アメリカ合衆国）（姉妹都市） | AD11: =[1]入力シート!IF6 -> ヤンゴン市（ミャンマー連邦共和国）（姉妹都市）
B12: 大牟田市 | G12: =[1]入力シート!HY7 -> 大同市（中華人民共和国）（友好都市） | AD12: =[1]入力シート!HZ7 -> マスキーガン郡，市（アメリカ）（姉妹都市）
G13: =[1]入力シート!IA7 -> ノースマスキーガン市（アメリカ）（姉妹都市）
B14: 久留米市 | G14: =[1]入力シート!HY8 -> 郡山市（福島県）（姉妹都市） | AD14: =[1]入力シート!HZ8 -> 合肥市（中国）（友好都市）
G15: =[1]入力シート!IA8 -> モデスト市（アメリカ）（姉妹都市）
B16: 直方市
B17: 飯塚市 | G17: =[1]入力シート!HY10 -> サニーベール市（アメリカ合衆国）（姉妹都市）
B18: 田川市
B19: 柳川市 | G19: =[1]入力シート!HY12 -> 竹田市（大分県）（姉妹都市） | AD19: =[1]入力シート!HZ12 -> 延岡市（宮崎県）（友好都市）
B20: 八女市 | G20: =[1]入力シート!HY13 -> 巨済市（大韓民国）（姉妹都市） | AD20: =[1]入力シート!HZ13 -> 吉野町（奈良県）（友好交流都市）
G21: =[1]入力シート!IA13 -> 吉田町（静岡県）（特産品交流連携に関する協定） | AD21: =[1]入力シート!IB13 -> 高槻市（大阪府）（包括連携協定）
G22: =[1]入力シート!IC13 -> 岡崎市（愛知県）（包括連携協定）
B23: 筑後市
B24: 大川市 | G24: =[1]入力シート!HY15 -> イタリア・ポルデノーネ市（姉妹都市）
B25: 行橋市
B26: 豊前市 | G26: =[1]入力シート!HY17 -> 東松島市（宮城県）（友好都市）
B27: 中間市
B28: 小郡市 | G28: =[1]入力シート!HY19 -> 本部町（沖縄県）（友好のまち）
B29: 筑紫野市
B30: 春日市
B31: 大野城市
B32: 宗像市 | G32: =[1]入力シート!HY23 -> 金海市（大韓民国）（姉妹都市） | AD32: =[1]入力シート!HZ23 -> 城山邑（大韓民国）（友好関係都市）
G33: =[1]入力シート!IA23 -> カザンラック市（ブルガリア）（パートナーシップ協定）
B34: 太宰府市 | G34: =[1]入力シート!HY24 -> 扶餘郡（大韓民国）（姉妹都市） | AD34: =[1]入力シート!HZ24 -> 奈良市（奈良県）（友好都市）
G35: =[1]入力シート!IA24 -> 多賀城市（宮城県）（友好都市） | AD35: =[1]入力シート!IB24 -> 中津市（大分県）（友好都市）
B36: 古賀市
B37: 福津市
B38: うきは市 | G38: =[1]入力シート!HY27 -> 枝幸町（北海道）（友好都市）
B39: 宮若市
B40: 嘉麻市
B41: 朝倉市 | G41: =[1]入力シート!HY30 -> 高鍋町（宮崎県）（姉妹都市）
B42: みやま市 | G42: =[1]入力シート!HY31 -> 越前町（福井県）（姉妹都市）
B43: 糸島市
B44: 那珂川市
B45: 宇美町
B46: 篠栗町
B47: 志免町
B48: 須恵町
B49: 新宮町
B50: 久山町
B51: 粕屋町
B52: 芦屋町 | G52: =[1]入力シート!HY41 -> 佐野市（栃木県）（親善都市）
B53: 水巻町
B54: 岡垣町
B55: 遠賀町
B56: 小竹町
B57: 鞍手町
B58: 桂川町 | G58: =[1]入力シート!HY47 -> 私立マニラ・セントラル大学 （フィリピン・カロ-カンシティ）と桂川町立桂川中学校（姉妹校）
B59: 筑前町 | G59: =[1]入力シート!HY48 -> 香南市（高知県）（防災応援協定） | AD59: =[1]入力シート!HZ48 -> 野洲市（滋賀県）（防災応援協定）
B60: 東峰村
B61: 大刀洗町
B62: 大木町
B63: 広川町
B64: 香春町
B65: 添田町 | G65: =[1]入力シート!HY54 -> 江華郡（大韓民国）（友好交流都市） | AD65: =[1]入力シート!HZ54 -> 美深町（北海道）（姉妹町）
B66: 糸田町
B67: 川崎町 | G67: =[1]入力シート!HY56 -> ブレアザ町（ルーマニア）（姉妹都市）
B68: 大任町
B69: 赤村
B70: 福智町 | G70: =[1]入力シート!HY59 -> 中城村（沖縄県）（兄弟都市）
B71: 苅田町 | G71: =[1]入力シート!HY60 -> 三陟市（韓国）（友好都市）
B72: みやこ町 | G72: 会津若松市（福島県）（郡長正ゆかりの地交流都市宣言都市）
B73: 吉富町
B74: 上毛町 | G74: =[1]入力シート!HY63 -> チュラローンコーン大学附属小学校（タイ王国）（姉妹校） | AD74: =[1]入力シート!HZ63 -> 赤井川村（北海道）（連携協力協定）
B75: 築上町 | G75: =[1]入力シート!HY64 -> 常州市金壇区（中華人民共和国）（友好都市意向書締結都市）
G76: =[1]入力シート!HZ64 -> 常州市金壇区薛埠中心小学校（中華人民共和国）と築上町立築城小学校（姉妹校）
G77: =[1]入力シート!IA64 -> 南京市六合区竹鎮中日友好希望小学校と築上町立椎田小学校（姉妹校）
G78: =[1]入力シート!IB64 -> ホセリオス中学校（グアム）と築上町立椎田中学校及び築上町立築城中学校（姉妹校）
