Workbook

Sheet 姉妹都市・友好都市等
B2: ６ 県内市町村の「姉妹都市・友好都市等」
B4: 市町村 | G4: 姉妹都市・友好都市等
B5: 北九州市 | G5: =[1]入力シート!HX5 -> タコマ市(アメリカ)（姉妹都市） | AD5: =[1]入力シート!HY5 -> ノーフォーク市(アメリカ)（姉妹都市）
G6: =[1]入力シート!HZ5 -> 大連市（中国）（友好都市） | AD6: =[1]入力シート!IA5 -> 仁川広域市（韓国）（姉妹都市）
G7: =[1]入力シート!IB5 -> ハイフォン市（ベトナム）（姉妹都市） | AD7: =[1]入力シート!IC5 -> プノンペン都（カンボジア）（姉妹都市）
B8: 福岡市 | G8: =[1]入力シート!HY6 -> オークランド市（アメリカ合衆国）（姉妹都市） | AD8: =[1]入力シート!HZ6 -> 広州市（中華人民共和国）（友好都市）
G9: =[1]入力シート!IA6 -> ボルドー市（フランス共和国）（姉妹都市） | AD9: =[1]入力シート!IB6 -> オークランド市（ニュージーランド）（姉妹都市）
G10: =[1]入力シート!IC6 -> イポー市（マレーシア）（姉妹都市） | AD10: =[1]入力シート!ID6 -> 釜山広域市（大韓民国）（姉妹都市）
G11: =[1]入力シート!IE6 -> アトランタ市（アメリカ合衆国）（姉妹都市） | AD11: =[1]入力シート!IF6 -> ヤンゴン市（ミャンマー連邦共和国）（姉妹都市）
B12: 大牟田市 | G12: =[1]入力シート!HY7 -> 大同市（中華人民共和国）（友好都市） | AD12: =[1]入力シート!HZ7 -> マスキーガン郡，市（アメリカ）（姉妹都市）
G13: =[1]入力シート!IA7 -> ノースマスキーガン市（アメリカ）（姉妹都市）
B14: 久留米市 | G14: =[1]入力シート!HY8 -> 郡山市（福島県）（姉妹都市） | AD14: =[1]入力シート!HZ8 -> 合肥市（中国）（友好都市）
G15: =[1]入力シート!IA8 -> モデスト市（アメリカ）（姉妹都市）
B16: 直方市
B17: 飯塚市 | G17: =[1]入力シート!HY10 -> サニーベール市（アメリカ合衆国）（姉妹都市）
B18: 田川市
B19: 柳川市 | G19: =[1]入力シート!HY12 -> 竹田市（大分県）（姉妹都市） | AD19: =[1]入力シート!HZ12 -> 延岡市（宮崎県）（友好都市）
B20: 八女市 | G20: =[1]入力シート!HY13 -> 巨済市（大韓民国）（姉妹都市） | AD20: =[1]入力シート!HZ13 -> 吉野町（奈良県）（友好交流都市）
G21: =[1]入力シート!IA13 -> 吉田町（静岡県）（特産品交流連携に関する協定） | AD21: =[1]入力シート!IB13 -> 高槻市（大阪府）（包括連携協定）
G22: =[1]入力シート!IC13 -> 岡崎市（愛知県）（包括連携協定）
B23: 筑後市
B24: 大川市 | G24: =[1]入力シート!HY15 -> イタリア・ポルデノーネ市（姉妹都市）
B25: 行橋市
B26: 豊前市 | G26: =[1]入力シート!HY17 -> 東松島市（宮城県）（友好都市）
B27: 中間市
B28: 小郡市 | G28: =[1]入力シート!HY19 -> 本部町（沖縄県）（友好のまち）
B29: 筑紫野市
B30: 春日市
B31: 大野城市
B32: 宗像市 | G32: =[1]入力シート!HY23 -> 金海市（大韓民国）（姉妹都市） | AD32: =[1]入力シート!HZ23 -> 城山邑（大韓民国）（友好関係都市）
G33: =[1]入力シート!IA23 -> カザンラック市（ブルガリア）（パートナーシップ協定）
B34: 太宰府市 | G34: =[1]入力シート!HY24 -> 扶餘郡（大韓民国）（姉妹都市） | AD34: =[1]入力シート!HZ24 -> 奈良市（奈良県）（友好都市）
G35: =[1]入力シート!IA24 -> 多賀城市（宮城県）（友好都市） | AD35: =[1]入力シート!IB24 -> 中津市（大分県）（友好都市）
B36: 古賀市
B37: 福津市
B38: うきは市 | G38: =[1]入力シート!HY27 -> 枝幸町（北海道）（友好都市）
B39: 宮若市
B40: 嘉麻市
B41: 朝倉市 | G41: =[1]入力シート!HY30 -> 高鍋町（宮崎県）（姉妹都市）
B42: みやま市 | G42: =[1]入力シート!HY31 -> 越前町（福井県）（姉妹都市）
...
